Package: BiocPkgTools Version: 1.26.2 Command: /Library/Frameworks/R.framework/Resources/bin/R CMD build --keep-empty-dirs --no-resave-data BiocPkgTools StartedAt: 2025-05-19 19:43:37 -0400 (Mon, 19 May 2025) EndedAt: 2025-05-19 19:46:42 -0400 (Mon, 19 May 2025) EllapsedTime: 185.5 seconds RetCode: 0 Status: OK PackageFile: BiocPkgTools_1.26.2.tar.gz PackageFileSize: 1.459 MiB