Package: BiocParallel Version: 1.42.2 Command: /home/biocbuild/bbs-3.21-bioc/R/bin/R CMD build --keep-empty-dirs --no-resave-data BiocParallel StartedAt: 2025-10-08 16:26:28 -0400 (Wed, 08 Oct 2025) EndedAt: 2025-10-08 16:27:55 -0400 (Wed, 08 Oct 2025) EllapsedTime: 87.1 seconds RetCode: 0 Status: OK PackageFile: BiocParallel_1.42.2.tar.gz PackageFileSize: 1.051 MiB