Package: BiocNeighbors Version: 2.2.0 Command: /Library/Frameworks/R.framework/Resources/bin/R CMD check --install=check:BiocNeighbors.install-out.txt --library=/Library/Frameworks/R.framework/Resources/library --no-vignettes --timings BiocNeighbors_2.2.0.tar.gz StartedAt: 2025-05-02 00:21:21 -0400 (Fri, 02 May 2025) EndedAt: 2025-05-02 00:22:28 -0400 (Fri, 02 May 2025) EllapsedTime: 66.5 seconds RetCode: 0 Status: OK CheckDir: BiocNeighbors.Rcheck Warnings: 0