Package: BiocNeighbors Version: 2.0.1 Command: /Library/Frameworks/R.framework/Resources/bin/R CMD build --keep-empty-dirs --no-resave-data BiocNeighbors StartedAt: 2025-01-30 17:26:34 -0500 (Thu, 30 Jan 2025) EndedAt: 2025-01-30 17:28:20 -0500 (Thu, 30 Jan 2025) EllapsedTime: 106.0 seconds RetCode: 0 Status: OK PackageFile: BiocNeighbors_2.0.1.tar.gz PackageFileSize: 328.8 KiB