Package: BiocNeighbors Version: 2.2.0 Command: /Library/Frameworks/R.framework/Resources/bin/R CMD build --keep-empty-dirs --no-resave-data BiocNeighbors StartedAt: 2025-04-21 15:44:27 -0400 (Mon, 21 Apr 2025) EndedAt: 2025-04-21 15:44:42 -0400 (Mon, 21 Apr 2025) EllapsedTime: 15.2 seconds RetCode: 0 Status: OK PackageFile: BiocNeighbors_2.2.0.tar.gz PackageFileSize: 328.6 KiB