Back to Multiple platform build/check report for BioC 3.22:   simplified   long
A[B]CDEFGHIJKLMNOPQRSTUVWXYZ

This page was generated on 2025-11-07 11:59 -0500 (Fri, 07 Nov 2025).

HostnameOSArch (*)R versionInstalled pkgs
nebbiolo2Linux (Ubuntu 24.04.3 LTS)x86_644.5.1 Patched (2025-08-23 r88802) -- "Great Square Root" 4902
kjohnson3macOS 13.7.7 Venturaarm644.5.1 Patched (2025-09-10 r88807) -- "Great Square Root" 4638
Click on any hostname to see more info about the system (e.g. compilers)      (*) as reported by 'uname -p', except on Windows and Mac OS X

All results for package BiocNeighbors


To the developers/maintainers of the BiocNeighbors package:
- Allow up to 24 hours (and sometimes 48 hours) for your latest push to git@git.bioconductor.org:packages/BiocNeighbors.git to reflect on this report. See Troubleshooting Build Report for more information.
- Use the following Renviron settings to reproduce errors and warnings.
- If 'R CMD check' started to fail recently on the Linux builder(s) over a missing dependency, add the missing dependency to 'Suggests:' in your DESCRIPTION file. See Renviron.bioc for more information.

raw results

Package 196/2361HostnameOS / ArchINSTALLBUILDCHECKBUILD BIN
BiocNeighbors 2.4.0  (landing page)
Aaron Lun
Snapshot Date: 2025-11-06 13:45 -0500 (Thu, 06 Nov 2025)
git_url: https://git.bioconductor.org/packages/BiocNeighbors
git_branch: RELEASE_3_22
git_last_commit: c2ff286
git_last_commit_date: 2025-10-29 10:46:10 -0500 (Wed, 29 Oct 2025)
nebbiolo2Linux (Ubuntu 24.04.3 LTS) / x86_64  OK    OK    OK  UNNEEDED, same version is already published
kjohnson3macOS 13.7.7 Ventura / arm64  OK    OK    OK    OK  UNNEEDED, same version is already published



Results for Bioconductor software packages that depend directly on package BiocNeighbors

QUICK STATSOS / ArchINSTALLBUILDCHECKBUILD BIN
nebbiolo2Linux (Ubuntu 24.04.3 LTS) / x86_64
0024
0024
01320
kjohnson3macOS 13.7.7 Ventura / arm64
0024
0024
03318
0024
Package 1/24HostnameOS / ArchINSTALLBUILDCHECKBUILD BIN
batchelor 1.26.0  (landing page)
Aaron Lun
git_last_commit: 8a9df0d
git_last_commit_date: 2025-10-29 10:51:04 -0500
nebbiolo2Linux (Ubuntu 24.04.3 LTS) / x86_64  OK    OK    OK  UNNEEDED, same version is already published
kjohnson3macOS 13.7.7 Ventura / arm64  OK    OK    OK    OK  UNNEEDED, same version is already published
Package 2/24HostnameOS / ArchINSTALLBUILDCHECKBUILD BIN
bluster 1.20.0  (landing page)
Aaron Lun
git_last_commit: b47a2df
git_last_commit_date: 2025-10-29 11:00:44 -0500
nebbiolo2Linux (Ubuntu 24.04.3 LTS) / x86_64  OK    OK    OK  UNNEEDED, same version is already published
kjohnson3macOS 13.7.7 Ventura / arm64  OK    OK    OK    OK  UNNEEDED, same version is already published
Package 3/24HostnameOS / ArchINSTALLBUILDCHECKBUILD BIN
CellMixS 1.26.0  (landing page)
Almut Lütge
git_last_commit: 9f46a58
git_last_commit_date: 2025-10-29 10:51:12 -0500
nebbiolo2Linux (Ubuntu 24.04.3 LTS) / x86_64  OK    OK    OK  UNNEEDED, same version is already published
kjohnson3macOS 13.7.7 Ventura / arm64  OK    OK    OK    OK  UNNEEDED, same version is already published
Package 4/24HostnameOS / ArchINSTALLBUILDCHECKBUILD BIN
clustSIGNAL 1.2.0  (landing page)
Pratibha Panwar
git_last_commit: 55aa2e1
git_last_commit_date: 2025-10-29 11:35:51 -0500
nebbiolo2Linux (Ubuntu 24.04.3 LTS) / x86_64  OK    OK    OK  UNNEEDED, same version is already published
kjohnson3macOS 13.7.7 Ventura / arm64  OK    OK    OK    OK  UNNEEDED, same version is already published
Package 5/24HostnameOS / ArchINSTALLBUILDCHECKBUILD BIN
concordexR 1.10.0  (landing page)
Kayla Jackson
git_last_commit: 9ea0373
git_last_commit_date: 2025-10-29 11:22:42 -0500
nebbiolo2Linux (Ubuntu 24.04.3 LTS) / x86_64  OK    OK    WARNINGS  UNNEEDED, same version is already published
kjohnson3macOS 13.7.7 Ventura / arm64  OK    OK    WARNINGS    OK  UNNEEDED, same version is already published
Package 6/24HostnameOS / ArchINSTALLBUILDCHECKBUILD BIN
cydar 1.34.0  (landing page)
Aaron Lun
git_last_commit: 92bf565
git_last_commit_date: 2025-10-29 10:37:34 -0500
nebbiolo2Linux (Ubuntu 24.04.3 LTS) / x86_64  OK    OK    OK  UNNEEDED, same version is already published
kjohnson3macOS 13.7.7 Ventura / arm64  OK    OK    OK    OK  UNNEEDED, same version is already published
Package 7/24HostnameOS / ArchINSTALLBUILDCHECKBUILD BIN
GeDi 1.6.0  (landing page)
Annekathrin Nedwed
git_last_commit: 308bc6a
git_last_commit_date: 2025-10-29 11:29:41 -0500
nebbiolo2Linux (Ubuntu 24.04.3 LTS) / x86_64  OK    OK    ERROR  
kjohnson3macOS 13.7.7 Ventura / arm64  OK    OK    ERROR    OK  
Package 8/24HostnameOS / ArchINSTALLBUILDCHECKBUILD BIN
imcRtools 1.16.0  (landing page)
Daniel Schulz
git_last_commit: 13fa3df
git_last_commit_date: 2025-10-29 11:12:28 -0500
nebbiolo2Linux (Ubuntu 24.04.3 LTS) / x86_64  OK    OK    OK  UNNEEDED, same version is already published
kjohnson3macOS 13.7.7 Ventura / arm64  OK    OK    OK    OK  UNNEEDED, same version is already published
Package 9/24HostnameOS / ArchINSTALLBUILDCHECKBUILD BIN
lemur 1.8.0  (landing page)
Constantin Ahlmann-Eltze
git_last_commit: c361bc9
git_last_commit_date: 2025-10-29 11:26:19 -0500
nebbiolo2Linux (Ubuntu 24.04.3 LTS) / x86_64  OK    OK    WARNINGS  UNNEEDED, same version is already published
kjohnson3macOS 13.7.7 Ventura / arm64  OK    OK    WARNINGS    OK  UNNEEDED, same version is already published
Package 10/24HostnameOS / ArchINSTALLBUILDCHECKBUILD BIN
miloR 2.6.0  (landing page)
Mike Morgan
git_last_commit: 374663b
git_last_commit_date: 2025-10-29 11:08:58 -0500
nebbiolo2Linux (Ubuntu 24.04.3 LTS) / x86_64  OK    OK    OK  UNNEEDED, same version is already published
kjohnson3macOS 13.7.7 Ventura / arm64  OK    OK    OK    OK  UNNEEDED, same version is already published
Package 11/24HostnameOS / ArchINSTALLBUILDCHECKBUILD BIN
mumosa 1.18.0  (landing page)
Aaron Lun
git_last_commit: 18e57eb
git_last_commit_date: 2025-10-29 11:05:15 -0500
nebbiolo2Linux (Ubuntu 24.04.3 LTS) / x86_64  OK    OK    OK  UNNEEDED, same version is already published
kjohnson3macOS 13.7.7 Ventura / arm64  OK    OK    OK    OK  UNNEEDED, same version is already published
Package 12/24HostnameOS / ArchINSTALLBUILDCHECKBUILD BIN
poem 1.2.0  (landing page)
Siyuan Luo
git_last_commit: e248fd3
git_last_commit_date: 2025-10-29 11:34:48 -0500
nebbiolo2Linux (Ubuntu 24.04.3 LTS) / x86_64  OK    OK    OK  UNNEEDED, same version is already published
kjohnson3macOS 13.7.7 Ventura / arm64  OK    OK    OK    OK  UNNEEDED, same version is already published
Package 13/24HostnameOS / ArchINSTALLBUILDCHECKBUILD BIN
scater 1.38.0  (landing page)
Alan O'Callaghan
git_last_commit: 64e2b5e
git_last_commit_date: 2025-10-29 10:30:01 -0500
nebbiolo2Linux (Ubuntu 24.04.3 LTS) / x86_64  OK    OK    OK  UNNEEDED, same version is already published
kjohnson3macOS 13.7.7 Ventura / arm64  OK    OK    ERROR    OK  
Package 14/24HostnameOS / ArchINSTALLBUILDCHECKBUILD BIN
scDblFinder 1.24.0  (landing page)
Pierre-Luc Germain
git_last_commit: 0336756
git_last_commit_date: 2025-10-29 10:55:23 -0500
nebbiolo2Linux (Ubuntu 24.04.3 LTS) / x86_64  OK    OK    OK  UNNEEDED, same version is already published
kjohnson3macOS 13.7.7 Ventura / arm64  OK    OK    OK    OK  UNNEEDED, same version is already published
Package 15/24HostnameOS / ArchINSTALLBUILDCHECKBUILD BIN
scider 1.8.0  (landing page)
Yunshun Chen
git_last_commit: 2a5b6a6
git_last_commit_date: 2025-10-29 11:26:16 -0500
nebbiolo2Linux (Ubuntu 24.04.3 LTS) / x86_64  OK    OK    OK  UNNEEDED, same version is already published
kjohnson3macOS 13.7.7 Ventura / arm64  OK    OK    OK    OK  UNNEEDED, same version is already published
Package 16/24HostnameOS / ArchINSTALLBUILDCHECKBUILD BIN
scMerge 1.26.0  (landing page)
Yingxin Lin
git_last_commit: d9249c9
git_last_commit_date: 2025-10-29 10:51:54 -0500
nebbiolo2Linux (Ubuntu 24.04.3 LTS) / x86_64  OK    OK    OK  UNNEEDED, same version is already published
kjohnson3macOS 13.7.7 Ventura / arm64  OK    OK    OK    OK  UNNEEDED, same version is already published
Package 17/24HostnameOS / ArchINSTALLBUILDCHECKBUILD BIN
scrapper 1.4.0  (landing page)
Aaron Lun
git_last_commit: 4de467a
git_last_commit_date: 2025-10-29 11:32:02 -0500
nebbiolo2Linux (Ubuntu 24.04.3 LTS) / x86_64  OK    OK    WARNINGS  UNNEEDED, same version is already published
kjohnson3macOS 13.7.7 Ventura / arm64  OK    OK    WARNINGS    OK  UNNEEDED, same version is already published
Package 18/24HostnameOS / ArchINSTALLBUILDCHECKBUILD BIN
SingleR 2.12.0  (landing page)
Aaron Lun
git_last_commit: 39ca8d4
git_last_commit_date: 2025-10-29 10:54:00 -0500
nebbiolo2Linux (Ubuntu 24.04.3 LTS) / x86_64  OK    OK    OK  UNNEEDED, same version is already published
kjohnson3macOS 13.7.7 Ventura / arm64  OK    OK    OK    OK  UNNEEDED, same version is already published
Package 19/24HostnameOS / ArchINSTALLBUILDCHECKBUILD BIN
smoothclust 1.6.0  (landing page)
Lukas M. Weber
git_last_commit: da7fe79
git_last_commit_date: 2025-10-29 11:29:02 -0500
nebbiolo2Linux (Ubuntu 24.04.3 LTS) / x86_64  OK    OK    OK  UNNEEDED, same version is already published
kjohnson3macOS 13.7.7 Ventura / arm64  OK    OK    OK    OK  UNNEEDED, same version is already published
Package 20/24HostnameOS / ArchINSTALLBUILDCHECKBUILD BIN
SpatialFeatureExperiment 1.12.1  (landing page)
Lambda Moses
git_last_commit: bf9b3b9
git_last_commit_date: 2025-11-04 00:32:31 -0500
nebbiolo2Linux (Ubuntu 24.04.3 LTS) / x86_64  OK    OK    OK  UNNEEDED, same version is already published
kjohnson3macOS 13.7.7 Ventura / arm64  OK    OK    ERROR    OK  
Package 21/24HostnameOS / ArchINSTALLBUILDCHECKBUILD BIN
SpotSweeper 1.6.0  (landing page)
Michael Totty
git_last_commit: 2a9e4a7
git_last_commit_date: 2025-10-29 11:29:53 -0500
nebbiolo2Linux (Ubuntu 24.04.3 LTS) / x86_64  OK    OK    OK  UNNEEDED, same version is already published
kjohnson3macOS 13.7.7 Ventura / arm64  OK    OK    OK    OK  UNNEEDED, same version is already published
Package 22/24HostnameOS / ArchINSTALLBUILDCHECKBUILD BIN
StabMap 1.4.0  (landing page)
Shila Ghazanfar
git_last_commit: 82229fe
git_last_commit_date: 2025-10-29 11:31:21 -0500
nebbiolo2Linux (Ubuntu 24.04.3 LTS) / x86_64  OK    OK    OK  UNNEEDED, same version is already published
kjohnson3macOS 13.7.7 Ventura / arm64  OK    OK    OK    OK  UNNEEDED, same version is already published
Package 23/24HostnameOS / ArchINSTALLBUILDCHECKBUILD BIN
SVP 1.2.1  (landing page)
Shuangbin Xu
git_last_commit: 1d706a2
git_last_commit_date: 2025-11-03 02:07:21 -0500
nebbiolo2Linux (Ubuntu 24.04.3 LTS) / x86_64  OK    OK    OK  UNNEEDED, same version is already published
kjohnson3macOS 13.7.7 Ventura / arm64  OK    OK    OK    OK  UNNEEDED, same version is already published
Package 24/24HostnameOS / ArchINSTALLBUILDCHECKBUILD BIN
UCell 2.14.0  (landing page)
Massimo Andreatta
git_last_commit: 4d11456
git_last_commit_date: 2025-10-29 11:15:16 -0500
nebbiolo2Linux (Ubuntu 24.04.3 LTS) / x86_64  OK    OK    OK  UNNEEDED, same version is already published
kjohnson3macOS 13.7.7 Ventura / arm64  OK    OK    OK    OK  UNNEEDED, same version is already published