Package: BiocHubsShiny Version: 1.6.2 Command: /home/biocbuild/R/R/bin/R CMD check --install=check:BiocHubsShiny.install-out.txt --library=/home/biocbuild/R/R/site-library --no-vignettes --timings BiocHubsShiny_1.6.2.tar.gz StartedAt: 2025-01-31 04:11:13 -0000 (Fri, 31 Jan 2025) EndedAt: 2025-01-31 04:13:52 -0000 (Fri, 31 Jan 2025) EllapsedTime: 159.3 seconds RetCode: 0 Status: OK CheckDir: BiocHubsShiny.Rcheck Warnings: 0