Package: BiocHubsShiny Version: 1.8.0 Command: /Library/Frameworks/R.framework/Resources/bin/R CMD check --install=check:BiocHubsShiny.install-out.txt --library=/Library/Frameworks/R.framework/Resources/library --no-vignettes --timings BiocHubsShiny_1.8.0.tar.gz StartedAt: 2025-05-20 12:53:50 -0400 (Tue, 20 May 2025) EndedAt: 2025-05-20 12:56:07 -0400 (Tue, 20 May 2025) EllapsedTime: 136.6 seconds RetCode: 0 Status: OK CheckDir: BiocHubsShiny.Rcheck Warnings: 0