Package: BiocHail Version: 1.8.0 Command: /home/biocbuild/R/R/bin/R CMD build --keep-empty-dirs --no-resave-data BiocHail StartedAt: 2025-05-08 23:06:18 -0000 (Thu, 08 May 2025) EndedAt: 2025-05-08 23:07:04 -0000 (Thu, 08 May 2025) EllapsedTime: 46.0 seconds RetCode: 0 Status: OK PackageFile: BiocHail_1.8.0.tar.gz PackageFileSize: 2.653 MiB