Package: BiocGenerics Version: 0.52.0 Command: /home/biocbuild/R/R/bin/R CMD build --keep-empty-dirs --no-resave-data BiocGenerics StartedAt: 2025-01-30 21:58:27 -0000 (Thu, 30 Jan 2025) EndedAt: 2025-01-30 21:58:28 -0000 (Thu, 30 Jan 2025) EllapsedTime: 1.0 seconds RetCode: 0 Status: OK PackageFile: BiocGenerics_0.52.0.tar.gz PackageFileSize: 51.15 KiB