Package: BiocGenerics Version: 0.52.0 Command: /Library/Frameworks/R.framework/Resources/bin/R CMD INSTALL BiocGenerics StartedAt: 2025-01-30 15:06:31 -0500 (Thu, 30 Jan 2025) EndedAt: 2025-01-30 15:06:45 -0500 (Thu, 30 Jan 2025) EllapsedTime: 14.6 seconds RetCode: 0 Status: OK