Package: BiocGenerics Version: 0.52.0 Command: rm -rf BiocGenerics.buildbin-libdir && mkdir BiocGenerics.buildbin-libdir && /Users/biocbuild/BBS/utils/build-universal.sh BiocGenerics_0.52.0.tar.gz /Library/Frameworks/R.framework/Resources/bin/R BiocGenerics.buildbin-libdir StartedAt: 2025-01-31 12:24:13 -0500 (Fri, 31 Jan 2025) EndedAt: 2025-01-31 12:24:25 -0500 (Fri, 31 Jan 2025) EllapsedTime: 12.3 seconds RetCode: 0 Status: OK PackageFile: BiocGenerics_0.52.0.tgz PackageFileSize: 609.3 KiB