Package: BiocGenerics Version: 0.54.0 Command: /Library/Frameworks/R.framework/Resources/bin/R CMD build --keep-empty-dirs --no-resave-data BiocGenerics StartedAt: 2025-04-21 16:04:35 -0400 (Mon, 21 Apr 2025) EndedAt: 2025-04-21 16:04:37 -0400 (Mon, 21 Apr 2025) EllapsedTime: 2.3 seconds RetCode: 0 Status: OK PackageFile: BiocGenerics_0.54.0.tar.gz PackageFileSize: 54.78 KiB