Package: BiocGenerics Version: 0.54.0 Command: /Library/Frameworks/R.framework/Resources/bin/R CMD INSTALL BiocGenerics StartedAt: 2025-04-21 15:06:12 -0400 (Mon, 21 Apr 2025) EndedAt: 2025-04-21 15:06:18 -0400 (Mon, 21 Apr 2025) EllapsedTime: 5.8 seconds RetCode: 0 Status: OK