Package: BiocFileCache Version: 2.16.2 Command: /home/biocbuild/bbs-3.21-bioc/R/bin/R CMD INSTALL BiocFileCache StartedAt: 2025-10-01 15:11:50 -0400 (Wed, 01 Oct 2025) EndedAt: 2025-10-01 15:12:02 -0400 (Wed, 01 Oct 2025) EllapsedTime: 12.4 seconds RetCode: 0 Status: OK