Package: BiocFileCache Version: 2.16.2 Command: /home/biocbuild/bbs-3.21-bioc/R/bin/R CMD build --keep-empty-dirs --no-resave-data BiocFileCache StartedAt: 2025-10-01 16:28:22 -0400 (Wed, 01 Oct 2025) EndedAt: 2025-10-01 16:30:11 -0400 (Wed, 01 Oct 2025) EllapsedTime: 109.2 seconds RetCode: 0 Status: OK PackageFile: BiocFileCache_2.16.2.tar.gz PackageFileSize: 722.8 KiB