Package: BiocFileCache Version: 2.16.0 Command: /Library/Frameworks/R.framework/Resources/bin/R CMD check --install=check:BiocFileCache.install-out.txt --library=/Library/Frameworks/R.framework/Resources/library --no-vignettes --timings BiocFileCache_2.16.0.tar.gz StartedAt: 2025-04-21 18:20:57 -0400 (Mon, 21 Apr 2025) EndedAt: 2025-04-21 18:21:42 -0400 (Mon, 21 Apr 2025) EllapsedTime: 45.5 seconds RetCode: 0 Status: OK CheckDir: BiocFileCache.Rcheck Warnings: 0