Package: BiocFHIR Version: 1.12.0 Command: /home/biocbuild/bbs-3.22-bioc/R/bin/R CMD INSTALL BiocFHIR StartedAt: 2025-11-25 15:39:37 -0500 (Tue, 25 Nov 2025) EndedAt: 2025-11-25 15:39:42 -0500 (Tue, 25 Nov 2025) EllapsedTime: 5.4 seconds RetCode: 0 Status: OK