Package: BiocFHIR Version: 1.10.0 Command: /home/biocbuild/bbs-3.21-bioc/R/bin/R CMD build --keep-empty-dirs --no-resave-data BiocFHIR StartedAt: 2025-10-08 16:26:01 -0400 (Wed, 08 Oct 2025) EndedAt: 2025-10-08 16:26:31 -0400 (Wed, 08 Oct 2025) EllapsedTime: 30.1 seconds RetCode: 0 Status: OK PackageFile: BiocFHIR_1.10.0.tar.gz PackageFileSize: 4.29 MiB