Package: BiocFHIR Version: 1.10.0 Command: /Library/Frameworks/R.framework/Resources/bin/R CMD build --keep-empty-dirs --no-resave-data BiocFHIR StartedAt: 2025-10-13 17:23:35 -0400 (Mon, 13 Oct 2025) EndedAt: 2025-10-13 17:24:58 -0400 (Mon, 13 Oct 2025) EllapsedTime: 83.7 seconds RetCode: 0 Status: OK PackageFile: BiocFHIR_1.10.0.tar.gz PackageFileSize: 4.29 MiB