Package: BiocFHIR Version: 1.12.0 Command: rm -rf BiocFHIR.buildbin-libdir && mkdir BiocFHIR.buildbin-libdir && /Users/biocbuild/BBS/utils/build-universal.sh BiocFHIR_1.12.0.tar.gz /Library/Frameworks/R.framework/Resources/bin/R BiocFHIR.buildbin-libdir StartedAt: 2025-11-25 13:46:41 -0500 (Tue, 25 Nov 2025) EndedAt: 2025-11-25 13:47:00 -0500 (Tue, 25 Nov 2025) EllapsedTime: 19.8 seconds RetCode: 0 Status: OK PackageFile: BiocFHIR_1.12.0.tgz PackageFileSize: 4.294 MiB