Package: BiocFHIR Version: 1.10.0 Command: /Library/Frameworks/R.framework/Resources/bin/R CMD build --keep-empty-dirs --no-resave-data BiocFHIR StartedAt: 2025-10-06 20:08:33 -0400 (Mon, 06 Oct 2025) EndedAt: 2025-10-06 20:09:15 -0400 (Mon, 06 Oct 2025) EllapsedTime: 42.4 seconds RetCode: 0 Status: OK PackageFile: BiocFHIR_1.10.0.tar.gz PackageFileSize: 4.288 MiB