Package: BiocCheck Version: 1.42.1 Command: /home/biocbuild/R/R/bin/R CMD check --install=check:BiocCheck.install-out.txt --library=/home/biocbuild/R/R/site-library --no-vignettes --timings BiocCheck_1.42.1.tar.gz StartedAt: 2025-01-31 04:10:55 -0000 (Fri, 31 Jan 2025) EndedAt: 2025-01-31 04:24:54 -0000 (Fri, 31 Jan 2025) EllapsedTime: 838.8 seconds RetCode: 0 Status: OK CheckDir: BiocCheck.Rcheck Warnings: 0