Package: BiocCheck Version: 1.42.1 Command: /Library/Frameworks/R.framework/Resources/bin/R CMD build --keep-empty-dirs --no-resave-data BiocCheck StartedAt: 2025-01-02 17:13:47 -0500 (Thu, 02 Jan 2025) EndedAt: 2025-01-02 17:14:28 -0500 (Thu, 02 Jan 2025) EllapsedTime: 41.4 seconds RetCode: 0 Status: OK PackageFile: BiocCheck_1.42.1.tar.gz PackageFileSize: 307.4 KiB