Package: BiocBaseUtils Version: 1.10.0 Command: /home/biocbuild/bbs-3.21-bioc/R/bin/R CMD INSTALL BiocBaseUtils StartedAt: 2025-10-01 15:05:22 -0400 (Wed, 01 Oct 2025) EndedAt: 2025-10-01 15:05:31 -0400 (Wed, 01 Oct 2025) EllapsedTime: 9.4 seconds RetCode: 0 Status: OK