Package: Biobase Version: 2.66.0 Command: /home/biocbuild/R/R/bin/R CMD build --keep-empty-dirs --no-resave-data Biobase StartedAt: 2025-02-03 21:59:32 -0000 (Mon, 03 Feb 2025) EndedAt: 2025-02-03 21:59:52 -0000 (Mon, 03 Feb 2025) EllapsedTime: 20.0 seconds RetCode: 0 Status: OK PackageFile: Biobase_2.66.0.tar.gz PackageFileSize: 1.926 MiB