Package: BioNAR Version: 1.8.1 Command: F:\biocbuild\bbs-3.20-bioc\R\bin\R.exe CMD check --no-multiarch --install=check:BioNAR.install-out.txt --library=F:\biocbuild\bbs-3.20-bioc\R\library --no-vignettes --timings BioNAR_1.8.1.tar.gz StartedAt: 2025-01-30 23:56:02 -0500 (Thu, 30 Jan 2025) EndedAt: 2025-01-31 00:05:39 -0500 (Fri, 31 Jan 2025) EllapsedTime: 576.4 seconds RetCode: 0 Status: OK CheckDir: BioNAR.Rcheck Warnings: 0