Package: BioNAR Version: 1.8.1 Command: /home/biocbuild/bbs-3.20-bioc/R/bin/R CMD INSTALL BioNAR StartedAt: 2025-01-30 15:42:46 -0500 (Thu, 30 Jan 2025) EndedAt: 2025-01-30 15:43:21 -0500 (Thu, 30 Jan 2025) EllapsedTime: 35.2 seconds RetCode: 0 Status: OK