Package: BioNAR Version: 1.8.1 Command: /home/biocbuild/bbs-3.20-bioc/R/bin/R CMD build --keep-empty-dirs --no-resave-data --md5 BioNAR StartedAt: 2025-01-30 16:26:48 -0500 (Thu, 30 Jan 2025) EndedAt: 2025-01-30 16:29:13 -0500 (Thu, 30 Jan 2025) EllapsedTime: 145.2 seconds RetCode: 0 Status: OK PackageFile: BioNAR_1.8.1.tar.gz PackageFileSize: 3.45 MiB