Package: BioNAR Version: 1.10.0 Command: /Library/Frameworks/R.framework/Resources/bin/R CMD INSTALL BioNAR StartedAt: 2025-05-01 16:22:22 -0400 (Thu, 01 May 2025) EndedAt: 2025-05-01 16:23:17 -0400 (Thu, 01 May 2025) EllapsedTime: 55.4 seconds RetCode: 0 Status: OK