############################################################################## ############################################################################## ### ### Running command: ### ### /Library/Frameworks/R.framework/Resources/bin/R CMD check --install=check:BioNAR.install-out.txt --library=/Library/Frameworks/R.framework/Resources/library --no-vignettes --timings BioNAR_1.10.0.tar.gz ### ############################################################################## ############################################################################## * using log directory ‘/Users/biocbuild/bbs-3.21-bioc/meat/BioNAR.Rcheck’ * using R version 4.5.0 RC (2025-04-04 r88126) * using platform: x86_64-apple-darwin20 * R was compiled by Apple clang version 14.0.0 (clang-1400.0.29.202) GNU Fortran (GCC) 14.2.0 * running under: macOS Monterey 12.7.6 * using session charset: UTF-8 * using option ‘--no-vignettes’ * checking for file ‘BioNAR/DESCRIPTION’ ... OK * this is package ‘BioNAR’ version ‘1.10.0’ * package encoding: UTF-8 * checking package namespace information ... OK * checking package dependencies ... OK * checking if this is a source package ... OK * checking if there is a namespace ... OK * checking for hidden files and directories ... OK * checking for portable file names ... OK * checking for sufficient/correct file permissions ... OK * checking whether package ‘BioNAR’ can be installed ... OK * checking installed package size ... INFO installed size is 6.8Mb sub-directories of 1Mb or more: extdata 6.1Mb * checking package directory ... OK * checking ‘build’ directory ... OK * checking DESCRIPTION meta-information ... OK * checking top-level files ... OK * checking for left-over files ... OK * checking index information ... OK * checking package subdirectories ... OK * checking code files for non-ASCII characters ... OK * checking R files for syntax errors ... OK * checking whether the package can be loaded ... OK * checking whether the package can be loaded with stated dependencies ... OK * checking whether the package can be unloaded cleanly ... OK * checking whether the namespace can be loaded with stated dependencies ... OK * checking whether the namespace can be unloaded cleanly ... OK * checking dependencies in R code ... NOTE Package in Depends field not imported from: ‘Rdpack’ These packages need to be imported from (in the NAMESPACE file) for when this namespace is loaded but not attached. There are ::: calls to the package's namespace in its code. A package almost never needs to use ::: for its own objects: ‘addNoise’ ‘gofs’ ‘highlightRate’ ‘plotSigmoid’ * checking S3 generic/method consistency ... OK * checking replacement functions ... OK * checking foreign function calls ... OK * checking R code for possible problems ... OK * checking Rd files ... OK * checking Rd metadata ... OK * checking Rd cross-references ... NOTE Unknown package ‘clusterCons’ in Rd xrefs * checking for missing documentation entries ... OK * checking for code/documentation mismatches ... OK * checking Rd \usage sections ... OK * checking Rd contents ... OK * checking for unstated dependencies in examples ... OK * checking contents of ‘data’ directory ... OK * checking data for non-ASCII characters ... OK * checking LazyData ... OK * checking data for ASCII and uncompressed saves ... OK * checking files in ‘vignettes’ ... OK * checking examples ... OK Examples with CPU (user + system) or elapsed time > 5s user system elapsed clusteringSummary 21.350 0.063 21.812 addEdgeAtts 18.175 2.821 22.245 calcEntropy 19.006 1.033 20.444 plotEntropy 18.991 0.975 20.309 getEntropy 17.992 1.060 19.270 getCentralityMatrix 17.323 0.776 18.673 getGraphCentralityECDF 16.982 0.814 18.009 annotateTopOntoOVG 16.913 0.742 18.110 annotateSCHanno 10.845 0.755 11.939 runPermDisease 11.260 0.178 11.535 annotateGOont 9.217 1.165 11.365 normModularity 8.798 0.737 9.887 calcSparsness 8.372 0.642 9.164 annotateGoBP 8.268 0.677 10.190 annotateGoMF 6.980 0.309 9.134 annotateGoCC 6.602 0.422 8.508 calcAllClustering 6.625 0.022 6.716 FitDegree 2.179 0.105 13.230 getRandomGraphCentrality 1.259 0.041 24.626 * checking for unstated dependencies in ‘tests’ ... OK * checking tests ... Running ‘testthat.R’ OK * checking for unstated dependencies in vignettes ... OK * checking package vignettes ... OK * checking running R code from vignettes ... SKIPPED * checking re-building of vignette outputs ... SKIPPED * checking PDF version of manual ... OK * DONE Status: 2 NOTEs See ‘/Users/biocbuild/bbs-3.21-bioc/meat/BioNAR.Rcheck/00check.log’ for details.