Package: BioNAR Version: 1.10.0 Command: /Library/Frameworks/R.framework/Resources/bin/R CMD build --keep-empty-dirs --no-resave-data BioNAR StartedAt: 2025-05-05 17:22:51 -0400 (Mon, 05 May 2025) EndedAt: 2025-05-05 17:26:45 -0400 (Mon, 05 May 2025) EllapsedTime: 233.9 seconds RetCode: 0 Status: OK PackageFile: BioNAR_1.10.0.tar.gz PackageFileSize: 3.688 MiB