Package: BioNAR Version: 1.10.0 Command: /Library/Frameworks/R.framework/Resources/bin/R CMD INSTALL BioNAR StartedAt: 2025-04-24 19:00:12 -0400 (Thu, 24 Apr 2025) EndedAt: 2025-04-24 19:00:40 -0400 (Thu, 24 Apr 2025) EllapsedTime: 27.9 seconds RetCode: 0 Status: OK