Package: BioNAR Version: 1.8.1 Command: /Library/Frameworks/R.framework/Resources/bin/R CMD build --keep-empty-dirs --no-resave-data BioNAR StartedAt: 2025-01-30 19:46:32 -0500 (Thu, 30 Jan 2025) EndedAt: 2025-01-30 19:49:26 -0500 (Thu, 30 Jan 2025) EllapsedTime: 173.4 seconds RetCode: 0 Status: OK PackageFile: BioNAR_1.8.1.tar.gz PackageFileSize: 3.567 MiB