Package: BioNAR Version: 1.8.1 Command: rm -rf BioNAR.buildbin-libdir && mkdir BioNAR.buildbin-libdir && /Users/biocbuild/BBS/utils/build-universal.sh BioNAR_1.8.1.tar.gz /Library/Frameworks/R.framework/Resources/bin/R BioNAR.buildbin-libdir StartedAt: 2025-02-01 14:05:12 -0500 (Sat, 01 Feb 2025) EndedAt: 2025-02-01 14:05:46 -0500 (Sat, 01 Feb 2025) EllapsedTime: 33.7 seconds RetCode: 0 Status: OK PackageFile: BioNAR_1.8.1.tgz PackageFileSize: 4.122 MiB