Package: BioMVCClass Version: 1.76.0 Command: /Library/Frameworks/R.framework/Resources/bin/R CMD INSTALL BioMVCClass StartedAt: 2025-05-12 16:05:24 -0400 (Mon, 12 May 2025) EndedAt: 2025-05-12 16:05:33 -0400 (Mon, 12 May 2025) EllapsedTime: 9.2 seconds RetCode: 0 Status: OK