Package: BioMVCClass Version: 1.76.0 Command: /home/biocbuild/R/R/bin/R CMD INSTALL BioMVCClass StartedAt: 2025-05-12 20:26:08 -0000 (Mon, 12 May 2025) EndedAt: 2025-05-12 20:26:13 -0000 (Mon, 12 May 2025) EllapsedTime: 5.8 seconds RetCode: 0 Status: OK