Package: BioMVCClass Version: 1.76.0 Command: /home/biocbuild/R/R/bin/R CMD check --install=check:BioMVCClass.install-out.txt --library=/home/biocbuild/R/R/site-library --no-vignettes --timings BioMVCClass_1.76.0.tar.gz StartedAt: 2025-05-16 06:11:51 -0000 (Fri, 16 May 2025) EndedAt: 2025-05-16 06:12:29 -0000 (Fri, 16 May 2025) EllapsedTime: 38.0 seconds RetCode: 0 Status: OK CheckDir: BioMVCClass.Rcheck Warnings: 0