Package: BioMVCClass Version: 1.78.0 Command: /Library/Frameworks/R.framework/Resources/bin/R CMD check --install=check:BioMVCClass.install-out.txt --library=/Library/Frameworks/R.framework/Resources/library --no-vignettes --timings BioMVCClass_1.78.0.tar.gz StartedAt: 2025-11-10 18:59:05 -0500 (Mon, 10 Nov 2025) EndedAt: 2025-11-10 18:59:21 -0500 (Mon, 10 Nov 2025) EllapsedTime: 16.2 seconds RetCode: 0 Status: OK CheckDir: BioMVCClass.Rcheck Warnings: 0