Package: BioMVCClass Version: 1.76.0 Command: rm -rf BioMVCClass.buildbin-libdir && mkdir BioMVCClass.buildbin-libdir && /Users/biocbuild/BBS/utils/build-universal.sh BioMVCClass_1.76.0.tar.gz /Library/Frameworks/R.framework/Resources/bin/R BioMVCClass.buildbin-libdir StartedAt: 2025-04-21 22:27:51 -0400 (Mon, 21 Apr 2025) EndedAt: 2025-04-21 22:27:54 -0400 (Mon, 21 Apr 2025) EllapsedTime: 3.1 seconds RetCode: 0 Status: OK PackageFile: BioMVCClass_1.76.0.tgz PackageFileSize: 144.9 KiB