Package: BioGA Version: 1.2.0 Command: rm -rf BioGA.buildbin-libdir && mkdir BioGA.buildbin-libdir && E:\biocbuild\bbs-3.21-bioc\R\bin\R.exe CMD INSTALL --build --library=BioGA.buildbin-libdir BioGA_1.2.0.tar.gz StartedAt: 2025-08-15 08:52:09 -0400 (Fri, 15 Aug 2025) EndedAt: 2025-08-15 08:53:05 -0400 (Fri, 15 Aug 2025) EllapsedTime: 56.2 seconds RetCode: 0 Status: OK PackageFile: BioGA_1.2.0.zip PackageFileSize: 678.6 KiB