Package: BioCor Version: 1.30.0 Command: /home/biocbuild/R/R/bin/R CMD check --install=check:BioCor.install-out.txt --library=/home/biocbuild/R/R/site-library --no-vignettes --timings BioCor_1.30.0.tar.gz StartedAt: 2025-02-04 04:49:35 -0000 (Tue, 04 Feb 2025) EndedAt: 2025-02-04 05:06:08 -0000 (Tue, 04 Feb 2025) EllapsedTime: 992.9 seconds RetCode: 1 Status: ERROR CheckDir: BioCor.Rcheck Warnings: NA