Package: BioCor Version: 1.30.0 Command: /home/biocbuild/R/R/bin/R CMD build --keep-empty-dirs --no-resave-data BioCor StartedAt: 2025-01-30 21:59:22 -0000 (Thu, 30 Jan 2025) EndedAt: 2025-01-30 22:03:12 -0000 (Thu, 30 Jan 2025) EllapsedTime: 230.0 seconds RetCode: 0 Status: OK PackageFile: BioCor_1.30.0.tar.gz PackageFileSize: 1.208 MiB