Package: BioCor Version: 1.30.0 Command: /Library/Frameworks/R.framework/Resources/bin/R CMD check --install=check:BioCor.install-out.txt --library=/Library/Frameworks/R.framework/Resources/library --no-vignettes --timings BioCor_1.30.0.tar.gz StartedAt: 2025-01-31 00:44:39 -0500 (Fri, 31 Jan 2025) EndedAt: 2025-01-31 00:50:18 -0500 (Fri, 31 Jan 2025) EllapsedTime: 338.6 seconds RetCode: 0 Status: OK CheckDir: BioCor.Rcheck Warnings: 0