Package: BioCor Version: 1.32.0 Maintainer: LluĂ­s Revilla Sancho MaintainerEmail: lluis.revilla at gmail.com git_url: https://git.bioconductor.org/packages/BioCor git_branch: RELEASE_3_21 git_last_commit: 58fcee3 git_last_commit_date: 2025-04-15 11:09:29 -0400 (Tue, 15 Apr 2025)