Package: BindingSiteFinder Version: 2.4.0 Command: /home/biocbuild/R/R/bin/R CMD check --install=check:BindingSiteFinder.install-out.txt --library=/home/biocbuild/R/R/site-library --no-vignettes --timings BindingSiteFinder_2.4.0.tar.gz StartedAt: 2025-01-31 04:08:23 -0000 (Fri, 31 Jan 2025) EndedAt: 2025-01-31 04:30:03 -0000 (Fri, 31 Jan 2025) EllapsedTime: 1300.4 seconds RetCode: 1 Status: ERROR CheckDir: BindingSiteFinder.Rcheck Warnings: NA