Package: BicARE Version: 1.66.0 Command: /home/biocbuild/bbs-3.21-bioc/R/bin/R CMD build --keep-empty-dirs --no-resave-data BicARE StartedAt: 2025-10-01 16:26:16 -0400 (Wed, 01 Oct 2025) EndedAt: 2025-10-01 16:28:23 -0400 (Wed, 01 Oct 2025) EllapsedTime: 127.1 seconds RetCode: 0 Status: OK PackageFile: BicARE_1.66.0.tar.gz PackageFileSize: 460.1 KiB