Package: BicARE Version: 1.66.0 Command: /Library/Frameworks/R.framework/Resources/bin/R CMD build --keep-empty-dirs --no-resave-data BicARE StartedAt: 2025-09-29 19:58:21 -0400 (Mon, 29 Sep 2025) EndedAt: 2025-09-29 20:00:38 -0400 (Mon, 29 Sep 2025) EllapsedTime: 137.3 seconds RetCode: 0 Status: OK PackageFile: BicARE_1.66.0.tar.gz PackageFileSize: 460.3 KiB