Package: BicARE Version: 1.66.0 Maintainer: Pierre Gestraud MaintainerEmail: pierre.gestraud at curie.fr git_url: https://git.bioconductor.org/packages/BicARE git_branch: RELEASE_3_21 git_last_commit: cb25606 git_last_commit_date: 2025-04-15 09:43:34 -0400 (Tue, 15 Apr 2025)