Package: BiSeq Version: 1.48.0 Command: /Library/Frameworks/R.framework/Resources/bin/R CMD check --install=check:BiSeq.install-out.txt --library=/Library/Frameworks/R.framework/Resources/library --no-vignettes --timings BiSeq_1.48.0.tar.gz StartedAt: 2025-05-06 00:30:29 -0400 (Tue, 06 May 2025) EndedAt: 2025-05-06 00:41:49 -0400 (Tue, 06 May 2025) EllapsedTime: 679.6 seconds RetCode: 0 Status: OK CheckDir: BiSeq.Rcheck Warnings: 0